BEGIN:VCALENDAR
VERSION:2.0
PRODID:-//Berrick Salome Parish Council//Meeting Calendar//EN
CALSCALE:GREGORIAN
METHOD:PUBLISH
BEGIN:VEVENT
UID:72652-20260423@berricksalome-pc.gov.uk
DTSTAMP:20260424T082124Z
DTSTART;VALUE=DATE:20260423
DTEND;VALUE=DATE:20260424
SUMMARY:Extraordinary Full Council Meeting &#8211\\; 23rd April 2026
DESCRIPTION:Full Council Meeting\nView details: https://berricksalome-pc.gov.uk/meetings/extraordinary-full-council-meeting-23rd-april-2026/
URL:https://berricksalome-pc.gov.uk/meetings/extraordinary-full-council-meeting-23rd-april-2026/
END:VEVENT
END:VCALENDAR
