BEGIN:VCALENDAR
VERSION:2.0
PRODID:-//Berrick Salome Parish Council//Meeting Calendar//EN
CALSCALE:GREGORIAN
METHOD:PUBLISH
BEGIN:VEVENT
UID:72466-20250603@berricksalome-pc.gov.uk
DTSTAMP:20260419T215212Z
DTSTART;VALUE=DATE:20250603
DTEND;VALUE=DATE:20250604
SUMMARY:Berrick Salome Parish Drainage Group (BSPDG) &#8211\\; 3rd June 2025
DESCRIPTION:Berrick Salome Parish Drainage Group (BSPDG) Meeting\nView details: https://berricksalome-pc.gov.uk/meetings/berrick-salome-parish-drainage-group-bspdg-3rd-june-2025/
URL:https://berricksalome-pc.gov.uk/meetings/berrick-salome-parish-drainage-group-bspdg-3rd-june-2025/
END:VEVENT
END:VCALENDAR
